BEGIN:VCALENDAR
VERSION:2.0
PRODID:-//Termine-Galerie-Ereignisse - ECPv6.8.0//NONSGML v1.0//EN
CALSCALE:GREGORIAN
METHOD:PUBLISH
X-WR-CALNAME:Termine-Galerie-Ereignisse
X-ORIGINAL-URL:https://www.radclub-ilztal.de/wp
X-WR-CALDESC:Veranstaltungen für Termine-Galerie-Ereignisse
REFRESH-INTERVAL;VALUE=DURATION:PT1H
X-Robots-Tag:noindex
X-PUBLISHED-TTL:PT1H
BEGIN:VTIMEZONE
TZID:Europe/Berlin
BEGIN:DAYLIGHT
TZOFFSETFROM:+0100
TZOFFSETTO:+0200
TZNAME:CEST
DTSTART:20240331T010000
END:DAYLIGHT
BEGIN:STANDARD
TZOFFSETFROM:+0200
TZOFFSETTO:+0100
TZNAME:CET
DTSTART:20241027T010000
END:STANDARD
END:VTIMEZONE
BEGIN:VEVENT
DTSTART;TZID=Europe/Berlin:20241113T183000
DTEND;TZID=Europe/Berlin:20241113T193000
DTSTAMP:20260420T203645
CREATED:20241103T111250Z
LAST-MODIFIED:20241112T215240Z
UID:9292-1731522600-1731526200@www.radclub-ilztal.de
SUMMARY:Indoor Cycling mit Anja
DESCRIPTION:
URL:https://www.radclub-ilztal.de/wp/event/indoor-cycling-mit-anja-autohaus-platzer-wimmer-hutthurm/
LOCATION:Autohaus Platzer & Wimmer in Hutthurm
CATEGORIES:Indoor Cycling
ATTACH;FMTTYPE=image/jpeg:https://www.radclub-ilztal.de/wp/wp-content/uploads/2024/11/yt_spinning-anja_2.6.1.jpg
END:VEVENT
END:VCALENDAR