BEGIN:VCALENDAR
VERSION:2.0
PRODID:-//Termine-Galerie-Ereignisse - ECPv6.8.0//NONSGML v1.0//EN
CALSCALE:GREGORIAN
METHOD:PUBLISH
X-WR-CALNAME:Termine-Galerie-Ereignisse
X-ORIGINAL-URL:https://www.radclub-ilztal.de/wp
X-WR-CALDESC:Veranstaltungen für Termine-Galerie-Ereignisse
REFRESH-INTERVAL;VALUE=DURATION:PT1H
X-Robots-Tag:noindex
X-PUBLISHED-TTL:PT1H
BEGIN:VTIMEZONE
TZID:Europe/Berlin
BEGIN:DAYLIGHT
TZOFFSETFROM:+0100
TZOFFSETTO:+0200
TZNAME:CEST
DTSTART:20240331T010000
END:DAYLIGHT
BEGIN:STANDARD
TZOFFSETFROM:+0200
TZOFFSETTO:+0100
TZNAME:CET
DTSTART:20241027T010000
END:STANDARD
END:VTIMEZONE
BEGIN:VEVENT
DTSTART;TZID=Europe/Berlin:20241120T183000
DTEND;TZID=Europe/Berlin:20241120T193000
DTSTAMP:20260420T202041
CREATED:20241105T131253Z
LAST-MODIFIED:20241124T215951Z
UID:10604-1732127400-1732131000@www.radclub-ilztal.de
SUMMARY:Indoor Cycling mit Mike
DESCRIPTION:Ort des Trainings: im großen Gymnastikraum im Untergeschoss des Autohauses (Eingang: Topolino\, Treppe runter und rechts) \nDuschmöglichkeiten\, WCs + Sauna: nur möglich über eine Mitgliedschaft in Mike’s Fitness + Wellness im Obergeschoss \nKonditionen für Vereinsmitglieder: Halbjahresmitgliedschaft: 32 Euro monatlich ohne Sauna\, Sauna nur über den Erwerb einer 10-er Karte für 60 Euro möglich. \nWo kann ich mich umziehen\, wenn ich nicht Mitglied im Gym sein möchte?\nDer Trainingsraum ist groß. Du kannst Dich dort umziehen und Deine Sachen dort deponieren. \nWas ist mitzubringen?\nHandtuch für den Lenker und  ausreichend zum Trinken.\n \nWelche Schuhe brauche ich?\nDie Pedalen haben auf der einen Seite Schlaufen und auf der anderen Seite Klickpedalen. Man kann also mit Turnschuhen oder mit Klickis (Mountainbike) fahren.\n \n 
URL:https://www.radclub-ilztal.de/wp/event/indoor-cycling-mit-mike-autohaus-platzer-wimmer-hutthurm/
LOCATION:Autohaus Platzer & Wimmer in Hutthurm
CATEGORIES:Indoor Cycling
ATTACH;FMTTYPE=image/jpeg:https://www.radclub-ilztal.de/wp/wp-content/uploads/2024/11/20241120_1820363-scaled.jpg
END:VEVENT
END:VCALENDAR