BEGIN:VCALENDAR
VERSION:2.0
PRODID:-//Termine-Galerie-Ereignisse - ECPv6.8.0//NONSGML v1.0//EN
CALSCALE:GREGORIAN
METHOD:PUBLISH
X-ORIGINAL-URL:https://www.radclub-ilztal.de/wp
X-WR-CALDESC:Veranstaltungen für Termine-Galerie-Ereignisse
REFRESH-INTERVAL;VALUE=DURATION:PT1H
X-Robots-Tag:noindex
X-PUBLISHED-TTL:PT1H
BEGIN:VTIMEZONE
TZID:Europe/Berlin
BEGIN:DAYLIGHT
TZOFFSETFROM:+0100
TZOFFSETTO:+0200
TZNAME:CEST
DTSTART:20240331T010000
END:DAYLIGHT
BEGIN:STANDARD
TZOFFSETFROM:+0200
TZOFFSETTO:+0100
TZNAME:CET
DTSTART:20241027T010000
END:STANDARD
END:VTIMEZONE
BEGIN:VEVENT
DTSTART;TZID=Europe/Berlin:20241206T183000
DTEND;TZID=Europe/Berlin:20241206T220000
DTSTAMP:20260420T184228
CREATED:20241104T172326Z
LAST-MODIFIED:20241114T211828Z
UID:9352-1733509800-1733522400@www.radclub-ilztal.de
SUMMARY:Weihnachtsfeier beim Gasthaus Koller in Hundsdorf
DESCRIPTION:15 Euro Verzehrgutschein für Vereinsmitglieder und Helfer Ilztalkini
URL:https://www.radclub-ilztal.de/wp/event/weihnachtsfeier-beim-gasthaus-koller/
LOCATION:Gasthaus Koller\, Hundsdorf 23\, Thyrnau\, Bayern\, 94136\, Germany
CATEGORIES:Events
END:VEVENT
END:VCALENDAR