BEGIN:VCALENDAR
VERSION:2.0
PRODID:-//Termine-Galerie-Ereignisse - ECPv6.8.0//NONSGML v1.0//EN
CALSCALE:GREGORIAN
METHOD:PUBLISH
X-WR-CALNAME:Termine-Galerie-Ereignisse
X-ORIGINAL-URL:https://www.radclub-ilztal.de/wp
X-WR-CALDESC:Veranstaltungen für Termine-Galerie-Ereignisse
REFRESH-INTERVAL;VALUE=DURATION:PT1H
X-Robots-Tag:noindex
X-PUBLISHED-TTL:PT1H
BEGIN:VTIMEZONE
TZID:Europe/Berlin
BEGIN:DAYLIGHT
TZOFFSETFROM:+0100
TZOFFSETTO:+0200
TZNAME:CEST
DTSTART:20240331T010000
END:DAYLIGHT
BEGIN:STANDARD
TZOFFSETFROM:+0200
TZOFFSETTO:+0100
TZNAME:CET
DTSTART:20241027T010000
END:STANDARD
END:VTIMEZONE
BEGIN:VEVENT
DTSTART;TZID=Europe/Berlin:20241225T183000
DTEND;TZID=Europe/Berlin:20241225T193000
DTSTAMP:20260420T184016
CREATED:20241124T183629Z
LAST-MODIFIED:20241124T183707Z
UID:10839-1735151400-1735155000@www.radclub-ilztal.de
SUMMARY:Kein Indoor Cycling wegen Feiertag
DESCRIPTION:
URL:https://www.radclub-ilztal.de/wp/event/kein-indoor-cycling-wegen-feiertag/
END:VEVENT
END:VCALENDAR