BEGIN:VCALENDAR
VERSION:2.0
PRODID:-//Termine-Galerie-Ereignisse - ECPv6.8.0//NONSGML v1.0//EN
CALSCALE:GREGORIAN
METHOD:PUBLISH
X-WR-CALNAME:Termine-Galerie-Ereignisse
X-ORIGINAL-URL:https://www.radclub-ilztal.de/wp
X-WR-CALDESC:Veranstaltungen für Termine-Galerie-Ereignisse
REFRESH-INTERVAL;VALUE=DURATION:PT1H
X-Robots-Tag:noindex
X-PUBLISHED-TTL:PT1H
BEGIN:VTIMEZONE
TZID:Europe/Berlin
BEGIN:DAYLIGHT
TZOFFSETFROM:+0100
TZOFFSETTO:+0200
TZNAME:CEST
DTSTART:20250330T010000
END:DAYLIGHT
BEGIN:STANDARD
TZOFFSETFROM:+0200
TZOFFSETTO:+0100
TZNAME:CET
DTSTART:20251026T010000
END:STANDARD
END:VTIMEZONE
BEGIN:VEVENT
DTSTART;TZID=Europe/Berlin:20250125T150000
DTEND;TZID=Europe/Berlin:20250125T220000
DTSTAMP:20260420T165429
CREATED:20250111T133051Z
LAST-MODIFIED:20250112T222119Z
UID:9354-1737817200-1737842400@www.radclub-ilztal.de
SUMMARY:Schneeschuhwanderung auf den Dreisessel mit Einkehr im Berggasthof am 25.01.2025
DESCRIPTION:15:00 Uhr: Treffpunkt am Parkplatz unten bei der Dreisesselalm \n16:00 Uhr: Treffpunkt am Parkplatz oben kurz vor dem Berggasthof Dreisessel \n17:30 Uhr: Einkehr im Berggasthof Dreisessel (Essen à la Carte\, Essen + Getränke zahlt jeder selber) \nUm Ausrüstung  Wander-\, Schneeschuhe oder Tourenski\, Schlitten bitte selber kümmern. \n 
URL:https://www.radclub-ilztal.de/wp/event/schneeschuhwanderung-dreisesselalm/
LOCATION:Berggasthof Dreisessel\, Dreisesselhaus 1\, 94089 Neureichenau\, Bayern\, Germany
CATEGORIES:Events
ATTACH;FMTTYPE=image/jpeg:https://www.radclub-ilztal.de/wp/wp-content/uploads/2024/11/20240217_170751-scaled.jpg
END:VEVENT
END:VCALENDAR