BEGIN:VCALENDAR
VERSION:2.0
PRODID:-//Termine-Galerie-Ereignisse - ECPv6.8.0//NONSGML v1.0//EN
CALSCALE:GREGORIAN
METHOD:PUBLISH
X-WR-CALNAME:Termine-Galerie-Ereignisse
X-ORIGINAL-URL:https://www.radclub-ilztal.de/wp
X-WR-CALDESC:Veranstaltungen für Termine-Galerie-Ereignisse
REFRESH-INTERVAL;VALUE=DURATION:PT1H
X-Robots-Tag:noindex
X-PUBLISHED-TTL:PT1H
BEGIN:VTIMEZONE
TZID:Europe/Berlin
BEGIN:DAYLIGHT
TZOFFSETFROM:+0100
TZOFFSETTO:+0200
TZNAME:CEST
DTSTART:20250330T010000
END:DAYLIGHT
BEGIN:STANDARD
TZOFFSETFROM:+0200
TZOFFSETTO:+0100
TZNAME:CET
DTSTART:20251026T010000
END:STANDARD
END:VTIMEZONE
BEGIN:VEVENT
DTSTART;TZID=Europe/Berlin:20250328T170000
DTEND;TZID=Europe/Berlin:20250328T200000
DTSTAMP:20260420T131209
CREATED:20241104T174953Z
LAST-MODIFIED:20250320T173239Z
UID:9363-1743181200-1743192000@www.radclub-ilztal.de
SUMMARY:Kegeln um 17 Uhr im Gasthaus Fuchs in Leoprechting
DESCRIPTION:
URL:https://www.radclub-ilztal.de/wp/event/kegeln/
LOCATION:Gasthaus Fuchs\, Leoprechtinger Str. 8\, Hutthurm\, Bayern\, 94116\, Germany
CATEGORIES:Events
ATTACH;FMTTYPE=image/jpeg:https://www.radclub-ilztal.de/wp/wp-content/uploads/2024/11/IMG-20230310-WA0007.jpg
END:VEVENT
END:VCALENDAR