BEGIN:VCALENDAR
VERSION:2.0
PRODID:-//Termine-Galerie-Ereignisse - ECPv6.8.0//NONSGML v1.0//EN
CALSCALE:GREGORIAN
METHOD:PUBLISH
X-ORIGINAL-URL:https://www.radclub-ilztal.de/wp
X-WR-CALDESC:Veranstaltungen für Termine-Galerie-Ereignisse
REFRESH-INTERVAL;VALUE=DURATION:PT1H
X-Robots-Tag:noindex
X-PUBLISHED-TTL:PT1H
BEGIN:VTIMEZONE
TZID:Europe/Berlin
BEGIN:DAYLIGHT
TZOFFSETFROM:+0100
TZOFFSETTO:+0200
TZNAME:CEST
DTSTART:20250330T010000
END:DAYLIGHT
BEGIN:STANDARD
TZOFFSETFROM:+0200
TZOFFSETTO:+0100
TZNAME:CET
DTSTART:20251026T010000
END:STANDARD
END:VTIMEZONE
BEGIN:VEVENT
DTSTART;TZID=Europe/Berlin:20250330T110000
DTEND;TZID=Europe/Berlin:20250330T170000
DTSTAMP:20260420T131401
CREATED:20250320T172516Z
LAST-MODIFIED:20250320T194742Z
UID:11326-1743332400-1743354000@www.radclub-ilztal.de
SUMMARY:Saisonstart Rennrad: Sonntag\, 30.03.2025
DESCRIPTION:Abfahrt: 11 Uhr Autohaus Platzer + Wimmer\, Hutthurm\nAbfahrt: 12 Uhr in Tittling \nTour: Hengersberger Runde (63 km – 652 hm)\nGuide: Mike \n  \n 
URL:https://www.radclub-ilztal.de/wp/event/saisonstart-rennrad-sonntag-30-03-2025/
CATEGORIES:Rennrad
ATTACH;FMTTYPE=image/jpeg:https://www.radclub-ilztal.de/wp/wp-content/uploads/2025/03/IMG-20240626-WA0010.jpg
END:VEVENT
END:VCALENDAR