BEGIN:VCALENDAR
VERSION:2.0
PRODID:-//Termine-Galerie-Ereignisse - ECPv6.8.0//NONSGML v1.0//EN
CALSCALE:GREGORIAN
METHOD:PUBLISH
X-ORIGINAL-URL:https://www.radclub-ilztal.de/wp
X-WR-CALDESC:Veranstaltungen für Termine-Galerie-Ereignisse
REFRESH-INTERVAL;VALUE=DURATION:PT1H
X-Robots-Tag:noindex
X-PUBLISHED-TTL:PT1H
BEGIN:VTIMEZONE
TZID:Europe/Berlin
BEGIN:DAYLIGHT
TZOFFSETFROM:+0100
TZOFFSETTO:+0200
TZNAME:CEST
DTSTART:20250330T010000
END:DAYLIGHT
BEGIN:STANDARD
TZOFFSETFROM:+0200
TZOFFSETTO:+0100
TZNAME:CET
DTSTART:20251026T010000
END:STANDARD
END:VTIMEZONE
BEGIN:VEVENT
DTSTART;TZID=Europe/Berlin:20250410T080000
DTEND;TZID=Europe/Berlin:20250410T120000
DTSTAMP:20260420T112953
CREATED:20250404T172432Z
LAST-MODIFIED:20250404T172432Z
UID:11373-1744272000-1744286400@www.radclub-ilztal.de
SUMMARY:Tag der Vereine Schule Neukirchen vorm Wald
DESCRIPTION:Der RCI veranstaltet ein Radtraining für die Schulkinder
URL:https://www.radclub-ilztal.de/wp/event/tag-der-vereine-schule-neukirchen-vorm-wald/
LOCATION:Neukirchen vorm Wald\, Hofmark 5\, Neukirchen vorm Wald\, Bayern\, 94154\, Germany
END:VEVENT
END:VCALENDAR