BEGIN:VCALENDAR
VERSION:2.0
PRODID:-//Termine-Galerie-Ereignisse - ECPv6.8.0//NONSGML v1.0//EN
CALSCALE:GREGORIAN
METHOD:PUBLISH
X-WR-CALNAME:Termine-Galerie-Ereignisse
X-ORIGINAL-URL:https://www.radclub-ilztal.de/wp
X-WR-CALDESC:Veranstaltungen für Termine-Galerie-Ereignisse
REFRESH-INTERVAL;VALUE=DURATION:PT1H
X-Robots-Tag:noindex
X-PUBLISHED-TTL:PT1H
BEGIN:VTIMEZONE
TZID:Europe/Berlin
BEGIN:DAYLIGHT
TZOFFSETFROM:+0100
TZOFFSETTO:+0200
TZNAME:CEST
DTSTART:20250330T010000
END:DAYLIGHT
BEGIN:STANDARD
TZOFFSETFROM:+0200
TZOFFSETTO:+0100
TZNAME:CET
DTSTART:20251026T010000
END:STANDARD
END:VTIMEZONE
BEGIN:VEVENT
DTSTART;VALUE=DATE:20250503
DTEND;VALUE=DATE:20250505
DTSTAMP:20260420T093106
CREATED:20250404T171501Z
LAST-MODIFIED:20250404T171501Z
UID:11369-1746230400-1746403199@www.radclub-ilztal.de
SUMMARY:03./04.05.2025 KaroliRADo Waldkirchen
DESCRIPTION:
URL:https://www.radclub-ilztal.de/wp/event/03-04-05-2025-karolirado-waldkirchen/
LOCATION:RSC Waldkirchen\, Hauzenberger Str. 57\, Hauzenberg\, Bayern\, 94065\, Germany
END:VEVENT
END:VCALENDAR