BEGIN:VCALENDAR
VERSION:2.0
PRODID:-//Termine-Galerie-Ereignisse - ECPv6.8.0//NONSGML v1.0//EN
CALSCALE:GREGORIAN
METHOD:PUBLISH
X-WR-CALNAME:Termine-Galerie-Ereignisse
X-ORIGINAL-URL:https://www.radclub-ilztal.de/wp
X-WR-CALDESC:Veranstaltungen für Termine-Galerie-Ereignisse
REFRESH-INTERVAL;VALUE=DURATION:PT1H
X-Robots-Tag:noindex
X-PUBLISHED-TTL:PT1H
BEGIN:VTIMEZONE
TZID:Europe/Berlin
BEGIN:DAYLIGHT
TZOFFSETFROM:+0100
TZOFFSETTO:+0200
TZNAME:CEST
DTSTART:20250330T010000
END:DAYLIGHT
BEGIN:STANDARD
TZOFFSETFROM:+0200
TZOFFSETTO:+0100
TZNAME:CET
DTSTART:20251026T010000
END:STANDARD
END:VTIMEZONE
BEGIN:VEVENT
DTSTART;TZID=Europe/Berlin:20251001T163000
DTEND;TZID=Europe/Berlin:20251001T180000
DTSTAMP:20260420T000426
CREATED:20251001T212317Z
LAST-MODIFIED:20251010T213554Z
UID:12273-1759336200-1759341600@www.radclub-ilztal.de
SUMMARY:Sommersaison MTB-Touren beendet – weiter gehts mit den Herbst- und Wintertouren
DESCRIPTION:
URL:https://www.radclub-ilztal.de/wp/event/sommersaison-mtb-touren-beendet-weiter-gehts-mit-den-herbst-und-wintertouren/
CATEGORIES:Mountainbike
END:VEVENT
END:VCALENDAR