BEGIN:VCALENDAR
VERSION:2.0
PRODID:-//Termine-Galerie-Ereignisse - ECPv6.8.0//NONSGML v1.0//EN
CALSCALE:GREGORIAN
METHOD:PUBLISH
X-WR-CALNAME:Termine-Galerie-Ereignisse
X-ORIGINAL-URL:https://www.radclub-ilztal.de/wp
X-WR-CALDESC:Veranstaltungen für Termine-Galerie-Ereignisse
REFRESH-INTERVAL;VALUE=DURATION:PT1H
X-Robots-Tag:noindex
X-PUBLISHED-TTL:PT1H
BEGIN:VTIMEZONE
TZID:Europe/Berlin
BEGIN:DAYLIGHT
TZOFFSETFROM:+0100
TZOFFSETTO:+0200
TZNAME:CEST
DTSTART:20250330T010000
END:DAYLIGHT
BEGIN:STANDARD
TZOFFSETFROM:+0200
TZOFFSETTO:+0100
TZNAME:CET
DTSTART:20251026T010000
END:STANDARD
END:VTIMEZONE
BEGIN:VEVENT
DTSTART;TZID=Europe/Berlin:20251213T103000
DTEND;TZID=Europe/Berlin:20251213T120000
DTSTAMP:20260419T205031
CREATED:20251209T153741Z
LAST-MODIFIED:20251209T153741Z
UID:12442-1765621800-1765627200@www.radclub-ilztal.de
SUMMARY:Klettern in Freinberg (Österreich)
DESCRIPTION:mit anschließendem Mittagessen
URL:https://www.radclub-ilztal.de/wp/event/klettern-in-freinberg-oesterreich/
LOCATION:Kletterhalle Freinberg\, Topfit-freizeitpark Gmbh KLETTERHALLE Freinberg 74\, Freinberg\, 4785\, Austria
CATEGORIES:Klettern
ATTACH;FMTTYPE=image/jpeg:https://www.radclub-ilztal.de/wp/wp-content/uploads/2025/12/20241123_1236240-scaled.jpg
END:VEVENT
END:VCALENDAR