BEGIN:VCALENDAR
VERSION:2.0
PRODID:-//Termine-Galerie-Ereignisse - ECPv6.8.0//NONSGML v1.0//EN
CALSCALE:GREGORIAN
METHOD:PUBLISH
X-WR-CALNAME:Termine-Galerie-Ereignisse
X-ORIGINAL-URL:https://www.radclub-ilztal.de/wp
X-WR-CALDESC:Veranstaltungen für Termine-Galerie-Ereignisse
REFRESH-INTERVAL;VALUE=DURATION:PT1H
X-Robots-Tag:noindex
X-PUBLISHED-TTL:PT1H
BEGIN:VTIMEZONE
TZID:Europe/Vatican
BEGIN:DAYLIGHT
TZOFFSETFROM:+0100
TZOFFSETTO:+0200
TZNAME:CEST
DTSTART:20260329T010000
END:DAYLIGHT
BEGIN:STANDARD
TZOFFSETFROM:+0200
TZOFFSETTO:+0100
TZNAME:CET
DTSTART:20261025T010000
END:STANDARD
END:VTIMEZONE
BEGIN:VEVENT
DTSTART;TZID=Europe/Vatican:20260415T180000
DTEND;TZID=Europe/Vatican:20260415T200000
DTSTAMP:20260419T152651
CREATED:20260414T153421Z
LAST-MODIFIED:20260414T163911Z
UID:12971-1776276000-1776283200@www.radclub-ilztal.de
SUMMARY:MTB Tour T1a: Dachsberg\, Start: Büchlberg Skateranlage
DESCRIPTION:https://www.komoot.com/de-de/tour/2882321075?share_token=aRCBD2wXdpsdKqMlKFK4faDG6qNSU0SSgTP4RbhVSRzfAroZRy&ref=wtd
URL:https://www.radclub-ilztal.de/wp/event/mtb-tour-id-1a-dachsberg-start-buechlberg-skateranlage/
LOCATION:Badstraße 5\, 94124 Büchlberg
END:VEVENT
END:VCALENDAR