BEGIN:VCALENDAR
VERSION:2.0
PRODID:-//Termine-Galerie-Ereignisse - ECPv6.8.0//NONSGML v1.0//EN
CALSCALE:GREGORIAN
METHOD:PUBLISH
X-WR-CALNAME:Termine-Galerie-Ereignisse
X-ORIGINAL-URL:https://www.radclub-ilztal.de/wp
X-WR-CALDESC:Veranstaltungen für Termine-Galerie-Ereignisse
REFRESH-INTERVAL;VALUE=DURATION:PT1H
X-Robots-Tag:noindex
X-PUBLISHED-TTL:PT1H
BEGIN:VTIMEZONE
TZID:Europe/Vatican
BEGIN:DAYLIGHT
TZOFFSETFROM:+0100
TZOFFSETTO:+0200
TZNAME:CEST
DTSTART:20260329T010000
END:DAYLIGHT
BEGIN:STANDARD
TZOFFSETFROM:+0200
TZOFFSETTO:+0100
TZNAME:CET
DTSTART:20261025T010000
END:STANDARD
END:VTIMEZONE
BEGIN:VEVENT
DTSTART;TZID=Europe/Vatican:20260506T180000
DTEND;TZID=Europe/Vatican:20260506T193000
DTSTAMP:20260419T144037
CREATED:20260414T153422Z
LAST-MODIFIED:20260414T163514Z
UID:12974-1778090400-1778095800@www.radclub-ilztal.de
SUMMARY:Fahrsicherheitstraining + MTB Tour T4: leichte Hutthurmrunde\, Start:Hutthurm Parkplatz KITA
DESCRIPTION:Start Projekt Gesunde Gemeinde Hutthurm mit Fahrsicherheitstraining und leichter MTB-Tour rund um Hutthurm. \nInfos Gemeinde Hutthurm Fahrradtraining:\nhttps://www.hutthurm.de/veranstaltungen/2877101/2026/05/06/gesunde-gemeinde-fahrradtraining.html \nTourdaten:\nhttps://www.komoot.com/de-de/tour/2883470773?share_token=aIW1llOW7lPVafO8dkzdWxDD8Rnet3SWvRTVP05RO7mCN5xHoj&ref=wtd
URL:https://www.radclub-ilztal.de/wp/event/mtb-tour-id-4-leichte-hutthurmrunde-starthutthurm-parkplatz-kita/
LOCATION:Fischhauserstr. 4\, 94116 Hutthurm
END:VEVENT
END:VCALENDAR