BEGIN:VCALENDAR
VERSION:2.0
PRODID:-//Termine-Galerie-Ereignisse - ECPv6.8.0//NONSGML v1.0//EN
CALSCALE:GREGORIAN
METHOD:PUBLISH
X-ORIGINAL-URL:https://www.radclub-ilztal.de/wp
X-WR-CALDESC:Veranstaltungen für Termine-Galerie-Ereignisse
REFRESH-INTERVAL;VALUE=DURATION:PT1H
X-Robots-Tag:noindex
X-PUBLISHED-TTL:PT1H
BEGIN:VTIMEZONE
TZID:Europe/Vatican
BEGIN:DAYLIGHT
TZOFFSETFROM:+0100
TZOFFSETTO:+0200
TZNAME:CEST
DTSTART:20260329T010000
END:DAYLIGHT
BEGIN:STANDARD
TZOFFSETFROM:+0200
TZOFFSETTO:+0100
TZNAME:CET
DTSTART:20261025T010000
END:STANDARD
END:VTIMEZONE
BEGIN:VEVENT
DTSTART;TZID=Europe/Vatican:20260513T180000
DTEND;TZID=Europe/Vatican:20260513T200000
DTSTAMP:20260419T145459
CREATED:20260414T153422Z
LAST-MODIFIED:20260414T163446Z
UID:12976-1778695200-1778702400@www.radclub-ilztal.de
SUMMARY:MTB Tour T5 (T5a): Büchlberg-Eberhardsberg-Runde\, Start: Büchlberg Skateranlage
DESCRIPTION:https://www.komoot.com/de-de/tour/2883681951?share_token=ahl2kOoTE1qRK9QmSrRedT42ac7dz9yRGODYaCXC1jh47lG1XA&ref=wtd\n\nhttps://www.komoot.com/de-de/tour/2883668494?share_token=aVBFZx2zfo7JR2IGm8As7XG9f5sAqoDqro2CamZL2Tg1LuKHIP&ref=wtd
URL:https://www.radclub-ilztal.de/wp/event/mtb-tour-id-5-5a-buechlberg-eberhardsberg-runde-start-buechlberg-skateranlage/
LOCATION:Badstraße 5\, 94124 Büchlberg
CATEGORIES:Mountainbike
END:VEVENT
END:VCALENDAR