BEGIN:VCALENDAR
VERSION:2.0
PRODID:-//Termine-Galerie-Ereignisse - ECPv6.8.0//NONSGML v1.0//EN
CALSCALE:GREGORIAN
METHOD:PUBLISH
X-ORIGINAL-URL:https://www.radclub-ilztal.de/wp
X-WR-CALDESC:Veranstaltungen für Termine-Galerie-Ereignisse
REFRESH-INTERVAL;VALUE=DURATION:PT1H
X-Robots-Tag:noindex
X-PUBLISHED-TTL:PT1H
BEGIN:VTIMEZONE
TZID:Europe/Vatican
BEGIN:DAYLIGHT
TZOFFSETFROM:+0100
TZOFFSETTO:+0200
TZNAME:CEST
DTSTART:20260329T010000
END:DAYLIGHT
BEGIN:STANDARD
TZOFFSETFROM:+0200
TZOFFSETTO:+0100
TZNAME:CET
DTSTART:20261025T010000
END:STANDARD
END:VTIMEZONE
BEGIN:VEVENT
DTSTART;TZID=Europe/Vatican:20260527T180000
DTEND;TZID=Europe/Vatican:20260527T200000
DTSTAMP:20260419T145500
CREATED:20260414T153422Z
LAST-MODIFIED:20260414T163225Z
UID:12978-1779904800-1779912000@www.radclub-ilztal.de
SUMMARY:MTB Tour T7 (T7a): Straßkirchen/ Salzweg-Trimmdichpfade Grubweg/ Zieglreuth\, Start: Büchlberg Skateranlage
DESCRIPTION:https://www.komoot.com/de-de/tour/2883902377?share_token=aRsralUSZeuvOIe0DDILHUzo6I7l7GquGof9bpzoQRsJ2qCaIr&ref=wtd\n\nhttps://www.komoot.com/de-de/tour/2883946656?share_token=aACgziyYFU55xFqUInGiIwVOK87UJKsgle25sEy0KMXworFN7d&ref=wtd
URL:https://www.radclub-ilztal.de/wp/event/mtb-tour-id-7-7a-strasskirchen-salzweg-trimmdichpfade-grubweg-zieglreuth-start-buechlberg-skateranlage/
LOCATION:Badstraße 5\, 94124 Büchlberg
END:VEVENT
END:VCALENDAR