BEGIN:VCALENDAR
VERSION:2.0
PRODID:-//Termine-Galerie-Ereignisse - ECPv6.8.0//NONSGML v1.0//EN
CALSCALE:GREGORIAN
METHOD:PUBLISH
X-ORIGINAL-URL:https://www.radclub-ilztal.de/wp
X-WR-CALDESC:Veranstaltungen für Termine-Galerie-Ereignisse
REFRESH-INTERVAL;VALUE=DURATION:PT1H
X-Robots-Tag:noindex
X-PUBLISHED-TTL:PT1H
BEGIN:VTIMEZONE
TZID:Europe/Berlin
BEGIN:DAYLIGHT
TZOFFSETFROM:+0100
TZOFFSETTO:+0200
TZNAME:CEST
DTSTART:20250330T010000
END:DAYLIGHT
BEGIN:STANDARD
TZOFFSETFROM:+0200
TZOFFSETTO:+0100
TZNAME:CET
DTSTART:20251026T010000
END:STANDARD
END:VTIMEZONE
BEGIN:VEVENT
DTSTART;TZID=Europe/Berlin:20250205T183000
DTEND;TZID=Europe/Berlin:20250205T193000
DTSTAMP:20260420T131726
CREATED:20241124T194406Z
LAST-MODIFIED:20250203T194602Z
UID:10861-1738780200-1738783800@www.radclub-ilztal.de
SUMMARY:Indoor Cycling mit “prominenter Vertretung” :-)
DESCRIPTION:Ort des Trainings: im großen Gymnastikraum im Untergeschoss des Autohauses (Eingang: Topolino\, Treppe runter und rechts) \nDuschmöglichkeiten\, WCs + Sauna: nur möglich über eine Mitgliedschaft in Mike’s Fitness + Wellness im Obergeschoss\nhttps://www.mikesfitnesscoaching.com/ \nKonditionen für Vereinsmitglieder: Halbjahresmitgliedschaft: 32 Euro monatlich ohne Sauna\, Sauna nur über den Erwerb einer 10-er Karte für 60 Euro möglich. \nWo kann ich mich umziehen\, wenn ich nicht Mitglied im Gym sein möchte?\nDer Trainingsraum ist groß. Du kannst Dich dort umziehen und Deine Sachen dort deponieren. \nWas ist mitzubringen?\nHandtuch für den Lenker und  ausreichend zum Trinken. \nWelche Schuhe brauche ich?\nDie Pedalen haben auf der einen Seite Schlaufen und auf der anderen Seite Klickpedalen. Man kann also mit Turnschuhen oder mit Klickis (Mountainbike) fahren.
URL:https://www.radclub-ilztal.de/wp/event/indoor-cycling-mit-anja-5/
LOCATION:Autohaus Platzer & Wimmer in Hutthurm
CATEGORIES:Indoor Cycling
END:VEVENT
BEGIN:VEVENT
DTSTART;TZID=Europe/Berlin:20250212T183000
DTEND;TZID=Europe/Berlin:20250212T193000
DTSTAMP:20260420T131726
CREATED:20241124T201425Z
LAST-MODIFIED:20250209T211354Z
UID:10865-1739385000-1739388600@www.radclub-ilztal.de
SUMMARY:Indoor Cycling mit Mike
DESCRIPTION:
URL:https://www.radclub-ilztal.de/wp/event/indoor-cycling-mit-mike-5/
LOCATION:Autohaus Platzer & Wimmer in Hutthurm
CATEGORIES:Indoor Cycling
ATTACH;FMTTYPE=image/jpeg:https://www.radclub-ilztal.de/wp/wp-content/uploads/2024/11/20241120_190218-scaled.jpg
END:VEVENT
BEGIN:VEVENT
DTSTART;TZID=Europe/Berlin:20250219T183000
DTEND;TZID=Europe/Berlin:20250219T193000
DTSTAMP:20260420T131726
CREATED:20241124T202639Z
LAST-MODIFIED:20250218T091114Z
UID:10868-1739989800-1739993400@www.radclub-ilztal.de
SUMMARY:Indoor Cycling mit Jürgen
DESCRIPTION:Ort des Trainings: im großen Gymnastikraum im Untergeschoss des Autohauses (Eingang: Topolino\, Treppe runter und rechts) \nDuschmöglichkeiten\, WCs + Sauna: nur möglich über eine Mitgliedschaft in Mike’s Fitness + Wellness im Obergeschoss\nhttps://www.mikesfitnesscoaching.com/ \nKonditionen für Vereinsmitglieder: Halbjahresmitgliedschaft: 32 Euro monatlich ohne Sauna\, Sauna nur über den Erwerb einer 10-er Karte für 60 Euro möglich. \nWo kann ich mich umziehen\, wenn ich nicht Mitglied im Gym sein möchte?\nDer Trainingsraum ist groß. Du kannst Dich dort umziehen und Deine Sachen dort deponieren. \nWas ist mitzubringen?\nHandtuch für den Lenker und  ausreichend zum Trinken. \nWelche Schuhe brauche ich?\nDie Pedalen haben auf der einen Seite Schlaufen und auf der anderen Seite Klickpedalen. Man kann also mit Turnschuhen oder mit Klickis (Mountainbike) fahren.
URL:https://www.radclub-ilztal.de/wp/event/indoor-cycling-mit-anja-6/
LOCATION:Autohaus Platzer & Wimmer in Hutthurm
CATEGORIES:Indoor Cycling
ATTACH;FMTTYPE=image/jpeg:https://www.radclub-ilztal.de/wp/wp-content/uploads/2025/02/indoor-cycling-pedale.jpg
END:VEVENT
BEGIN:VEVENT
DTSTART;TZID=Europe/Berlin:20250221T170000
DTEND;TZID=Europe/Berlin:20250221T190000
DTSTAMP:20260420T131726
CREATED:20241104T174535Z
LAST-MODIFIED:20241124T171356Z
UID:9359-1740157200-1740164400@www.radclub-ilztal.de
SUMMARY:Jump Zone X
DESCRIPTION:
URL:https://www.radclub-ilztal.de/wp/event/jump-zone-x/
LOCATION:Jump Zone X\, Heininger Str. 8\,\, Passau\, Bayern\, 94036\, Germany
CATEGORIES:Events
END:VEVENT
BEGIN:VEVENT
DTSTART;TZID=Europe/Berlin:20250226T183000
DTEND;TZID=Europe/Berlin:20250226T193000
DTSTAMP:20260420T131726
CREATED:20241124T203144Z
LAST-MODIFIED:20250224T142547Z
UID:10871-1740594600-1740598200@www.radclub-ilztal.de
SUMMARY:Faschings – Indoor Cycling mit Anja
DESCRIPTION:Ort des Trainings: im großen Gymnastikraum im Untergeschoss des Autohauses (Eingang: Topolino\, Treppe runter und rechts) \nDuschmöglichkeiten\, WCs + Sauna: nur möglich über eine Mitgliedschaft in Mike’s Fitness + Wellness im Obergeschoss\nhttps://www.mikesfitnesscoaching.com/ \nKonditionen für Vereinsmitglieder: Halbjahresmitgliedschaft: 32 Euro monatlich ohne Sauna\, Sauna nur über den Erwerb einer 10-er Karte für 60 Euro möglich. \nWo kann ich mich umziehen\, wenn ich nicht Mitglied im Gym sein möchte?\nDer Trainingsraum ist groß. Du kannst Dich dort umziehen und Deine Sachen dort deponieren. \nWas ist mitzubringen?\nHandtuch für den Lenker und  ausreichend zum Trinken. \nWelche Schuhe brauche ich?\nDie Pedalen haben auf der einen Seite Schlaufen und auf der anderen Seite Klickpedalen. Man kann also mit Turnschuhen oder mit Klickis (Mountainbike) fahren.
URL:https://www.radclub-ilztal.de/wp/event/faschings-indoor-cycling-mit-mike/
LOCATION:Autohaus Platzer & Wimmer in Hutthurm
CATEGORIES:Indoor Cycling
ATTACH;FMTTYPE=image/jpeg:https://www.radclub-ilztal.de/wp/wp-content/uploads/2024/11/faschings-spinning.jpg
END:VEVENT
END:VCALENDAR