BEGIN:VCALENDAR
VERSION:2.0
PRODID:-//Termine-Galerie-Ereignisse - ECPv6.8.0//NONSGML v1.0//EN
CALSCALE:GREGORIAN
METHOD:PUBLISH
X-ORIGINAL-URL:https://www.radclub-ilztal.de/wp
X-WR-CALDESC:Veranstaltungen für Termine-Galerie-Ereignisse
REFRESH-INTERVAL;VALUE=DURATION:PT1H
X-Robots-Tag:noindex
X-PUBLISHED-TTL:PT1H
BEGIN:VTIMEZONE
TZID:Europe/Berlin
BEGIN:DAYLIGHT
TZOFFSETFROM:+0100
TZOFFSETTO:+0200
TZNAME:CEST
DTSTART:20250330T010000
END:DAYLIGHT
BEGIN:STANDARD
TZOFFSETFROM:+0200
TZOFFSETTO:+0100
TZNAME:CET
DTSTART:20251026T010000
END:STANDARD
END:VTIMEZONE
BEGIN:VEVENT
DTSTART;TZID=Europe/Berlin:20250627T150000
DTEND;TZID=Europe/Berlin:20250628T140000
DTSTAMP:20260420T060452
CREATED:20250320T125817Z
LAST-MODIFIED:20250320T125940Z
UID:11316-1751036400-1751119200@www.radclub-ilztal.de
SUMMARY:Zeltlager Schrottenbaummühle 27./28.06.2025
DESCRIPTION:Freitag\, 27.06.2025 um 15 Uhr Treffpunkt auf dem Zeltplatz Schrottenbaummühle.\nMTB-Tour\, abends Grillen und Lagerfeuer.\nSamstag\, 28.06.2025: MTB-Tour\, danach Abreise \n 
URL:https://www.radclub-ilztal.de/wp/event/zeltlager-schrottenbaummuehle-27-28-06-2025/
LOCATION:Schrottenbaummühle\, Schrottenbaummühle\, Witzmannsberg\, Bayern\, 94104\, Germany
CATEGORIES:Events,Mountainbike
ATTACH;FMTTYPE=image/jpeg:https://www.radclub-ilztal.de/wp/wp-content/uploads/2025/03/20230616_220709-scaled.jpg
END:VEVENT
END:VCALENDAR