BEGIN:VCALENDAR
VERSION:2.0
PRODID:-//Termine-Galerie-Ereignisse - ECPv6.8.0//NONSGML v1.0//EN
CALSCALE:GREGORIAN
METHOD:PUBLISH
X-ORIGINAL-URL:https://www.radclub-ilztal.de/wp
X-WR-CALDESC:Veranstaltungen für Termine-Galerie-Ereignisse
REFRESH-INTERVAL;VALUE=DURATION:PT1H
X-Robots-Tag:noindex
X-PUBLISHED-TTL:PT1H
BEGIN:VTIMEZONE
TZID:Europe/Berlin
BEGIN:DAYLIGHT
TZOFFSETFROM:+0100
TZOFFSETTO:+0200
TZNAME:CEST
DTSTART:20250330T010000
END:DAYLIGHT
BEGIN:STANDARD
TZOFFSETFROM:+0200
TZOFFSETTO:+0100
TZNAME:CET
DTSTART:20251026T010000
END:STANDARD
END:VTIMEZONE
BEGIN:VEVENT
DTSTART;TZID=Europe/Berlin:20250905T160000
DTEND;TZID=Europe/Berlin:20250905T173000
DTSTAMP:20260420T001410
CREATED:20250831T220232Z
LAST-MODIFIED:20250831T221333Z
UID:11916-1757088000-1757093400@www.radclub-ilztal.de
SUMMARY:Start Kids MTB-Training nach Sommerpause 05.09.2025
DESCRIPTION:Bis zum MTB Rennen am 21.09.2025 trainieren wir auf der Rennstrecke des Ilztalkinis 2025 -Start/ Ziel: Autohaus Platzer + Wimmer
URL:https://www.radclub-ilztal.de/wp/event/start-kids-mtb-training-nach-sommerpause/
LOCATION:Autohaus Platzer & Wimmer in Hutthurm
CATEGORIES:Mountainbike
ATTACH;FMTTYPE=image/jpeg:https://www.radclub-ilztal.de/wp/wp-content/uploads/2025/09/PXL_20240922_110910913-scaled.jpg
END:VEVENT
BEGIN:VEVENT
DTSTART;TZID=Europe/Berlin:20250912T160000
DTEND;TZID=Europe/Berlin:20250912T173000
DTSTAMP:20260420T001410
CREATED:20250831T220653Z
LAST-MODIFIED:20250831T221426Z
UID:11919-1757692800-1757698200@www.radclub-ilztal.de
SUMMARY:MTB Training Kids 12.09.2025
DESCRIPTION:Vorbereitung der RCI Kids auf das Rennen – Training auf der Rennstrecke
URL:https://www.radclub-ilztal.de/wp/event/mtb-training-kids/
LOCATION:Autohaus Platzer & Wimmer in Hutthurm
CATEGORIES:Events
ATTACH;FMTTYPE=image/jpeg:https://www.radclub-ilztal.de/wp/wp-content/uploads/2025/09/PXL_20240922_081542941-scaled.jpg
END:VEVENT
BEGIN:VEVENT
DTSTART;TZID=Europe/Berlin:20250919T160000
DTEND;TZID=Europe/Berlin:20250919T173000
DTSTAMP:20260420T001410
CREATED:20250831T221031Z
LAST-MODIFIED:20250831T221451Z
UID:11922-1758297600-1758303000@www.radclub-ilztal.de
SUMMARY:MTB Training Kids 19.09.2025
DESCRIPTION:Training auf der Ilztalkini Rennstrecke
URL:https://www.radclub-ilztal.de/wp/event/mtb-training-kids-2/
LOCATION:Autohaus Platzer & Wimmer in Hutthurm
CATEGORIES:Events
ATTACH;FMTTYPE=image/jpeg:https://www.radclub-ilztal.de/wp/wp-content/uploads/2025/09/PXL_20240922_092506919-scaled.jpg
END:VEVENT
BEGIN:VEVENT
DTSTART;TZID=Europe/Berlin:20250921T100000
DTEND;TZID=Europe/Berlin:20250921T160000
DTSTAMP:20260420T001410
CREATED:20250320T164136Z
LAST-MODIFIED:20250320T164256Z
UID:11320-1758448800-1758470400@www.radclub-ilztal.de
SUMMARY:Ilztalkini 21.09.2025
DESCRIPTION:
URL:https://www.radclub-ilztal.de/wp/event/ilztalkini-21-09-2025/
CATEGORIES:Events,Mountainbike
ATTACH;FMTTYPE=image/jpeg:https://www.radclub-ilztal.de/wp/wp-content/uploads/2025/03/20240922_090045-scaled.jpg
END:VEVENT
END:VCALENDAR