BEGIN:VCALENDAR
VERSION:2.0
PRODID:-//Termine-Galerie-Ereignisse - ECPv6.8.0//NONSGML v1.0//EN
CALSCALE:GREGORIAN
METHOD:PUBLISH
X-ORIGINAL-URL:https://www.radclub-ilztal.de/wp
X-WR-CALDESC:Veranstaltungen für Termine-Galerie-Ereignisse
REFRESH-INTERVAL;VALUE=DURATION:PT1H
X-Robots-Tag:noindex
X-PUBLISHED-TTL:PT1H
BEGIN:VTIMEZONE
TZID:Europe/Berlin
BEGIN:DAYLIGHT
TZOFFSETFROM:+0100
TZOFFSETTO:+0200
TZNAME:CEST
DTSTART:20260329T010000
END:DAYLIGHT
BEGIN:STANDARD
TZOFFSETFROM:+0200
TZOFFSETTO:+0100
TZNAME:CET
DTSTART:20261025T010000
END:STANDARD
END:VTIMEZONE
BEGIN:VEVENT
DTSTART;TZID=Europe/Berlin:20260107T183000
DTEND;TZID=Europe/Berlin:20260107T193000
DTSTAMP:20260419T172544
CREATED:20251230T222907Z
LAST-MODIFIED:20251230T222907Z
UID:12521-1767810600-1767814200@www.radclub-ilztal.de
SUMMARY:Neujahrs Indoor Cycling mit Jürgen
DESCRIPTION:Ort des Trainings: im großen Gymnastikraum im Untergeschoss des Autohauses (Eingang: Topolino\, Treppe runter und rechts) \nDuschmöglichkeiten\, WCs: nur möglich über eine Mitgliedschaft in Mike’s Fitness + Wellness im Obergeschoss\nhttps://www.mikesfitnesscoaching.com/ \nWo kann ich mich umziehen\, wenn ich nicht Mitglied im Gym sein möchte?\n Du kannst Dich im Trainingsraum  umziehen und Deine Sachen dort deponieren. \nWas ist mitzubringen?\nHandtuch für den Lenker und  ausreichend zum Trinken. \nWelche Schuhe brauche ich?\nDie Pedalen haben auf der einen Seite Schlaufen und auf der anderen Seite Klickpedalen. Man kann also mit Turnschuhen oder mit Klickis (Mountainbike) fahren.
URL:https://www.radclub-ilztal.de/wp/event/neujahrs-indoor-cycling-mit-juergen/
LOCATION:Autohaus Platzer & Wimmer in Hutthurm
CATEGORIES:Indoor Cycling
ATTACH;FMTTYPE=image/png:https://www.radclub-ilztal.de/wp/wp-content/uploads/2025/12/neujahr_weltraum.png
END:VEVENT
BEGIN:VEVENT
DTSTART;TZID=Europe/Berlin:20260114T183000
DTEND;TZID=Europe/Berlin:20260114T193000
DTSTAMP:20260419T172544
CREATED:20260103T224316Z
LAST-MODIFIED:20260103T224316Z
UID:12537-1768415400-1768419000@www.radclub-ilztal.de
SUMMARY:Indoor Cycling mit Verena
DESCRIPTION:Ort des Trainings: im großen Gymnastikraum im Untergeschoss des Autohauses (Eingang: Topolino\, Treppe runter und rechts) \nDuschmöglichkeiten\, WCs: nur möglich über eine Mitgliedschaft in Mike’s Fitness + Wellness im Obergeschoss\nhttps://www.mikesfitnesscoaching.com/ \nWo kann ich mich umziehen\, wenn ich nicht Mitglied im Gym sein möchte?\n Du kannst dich im Trainingsraum  umziehen und deine Sachen dort deponieren. \nWas ist mitzubringen?\nHandtuch für den Lenker und  ausreichend zum Trinken. \nWelche Schuhe brauche ich?\nDie Pedalen haben auf der einen Seite Schlaufen und auf der anderen Seite Klickpedalen. Man kann also mit Turnschuhen oder mit Klickis (Mountainbike) fahren.
URL:https://www.radclub-ilztal.de/wp/event/indoor-cycling-mit-verena-2/
LOCATION:Autohaus Platzer & Wimmer in Hutthurm
CATEGORIES:Indoor Cycling
ATTACH;FMTTYPE=image/png:https://www.radclub-ilztal.de/wp/wp-content/uploads/2026/01/ChatGPT-Image-3.-Jan.-2026-23_24_20.png
END:VEVENT
BEGIN:VEVENT
DTSTART;TZID=Europe/Berlin:20260121T183000
DTEND;TZID=Europe/Berlin:20260121T193000
DTSTAMP:20260419T172544
CREATED:20260103T232715Z
LAST-MODIFIED:20260119T212048Z
UID:12540-1769020200-1769023800@www.radclub-ilztal.de
SUMMARY:Indoor Cycling mit Anja – Motto: Stranger Things / 80iger Jahre
DESCRIPTION:Ort des Trainings: im großen Gymnastikraum im Untergeschoss des Autohauses (Eingang: Topolino\, Treppe runter und rechts) \nDuschmöglichkeiten\, WCs: nur möglich über eine Mitgliedschaft in Mike’s Fitness + Wellness im Obergeschoss\nhttps://www.mikesfitnesscoaching.com/ \nWo kann ich mich umziehen\, wenn ich nicht Mitglied im Gym sein möchte?\n Du kannst dich im Trainingsraum  umziehen und deine Sachen dort deponieren. \nWas ist mitzubringen?\nHandtuch für den Lenker und  ausreichend zum Trinken. \nWelche Schuhe brauche ich?\nDie Pedalen haben auf der einen Seite Schlaufen und auf der anderen Seite Klickpedalen. Man kann also mit Turnschuhen oder mit Klickis (Mountainbike) fahren.
URL:https://www.radclub-ilztal.de/wp/event/indoor-cycling-mit-anja-11/
LOCATION:Autohaus Platzer & Wimmer in Hutthurm
CATEGORIES:Indoor Cycling
ATTACH;FMTTYPE=image/png:https://www.radclub-ilztal.de/wp/wp-content/uploads/2026/01/ChatGPT-Image-3.-Jan.-2026-23_55_16.png
END:VEVENT
BEGIN:VEVENT
DTSTART;TZID=Europe/Berlin:20260128T183000
DTEND;TZID=Europe/Berlin:20260128T193000
DTSTAMP:20260419T172544
CREATED:20260125T182223Z
LAST-MODIFIED:20260125T192921Z
UID:12620-1769625000-1769628600@www.radclub-ilztal.de
SUMMARY:Video Indoor Cycling Stunde mit Anja
DESCRIPTION:Ort des Trainings: im großen Gymnastikraum im Untergeschoss des Autohauses (Eingang: Topolino\, Treppe runter und rechts) \nDuschmöglichkeiten\, WCs: nur möglich über eine Mitgliedschaft in Mike’s Fitness + Wellness im Obergeschoss\nhttps://www.mikesfitnesscoaching.com/ \nWo kann ich mich umziehen\, wenn ich nicht Mitglied im Gym sein möchte?\n Du kannst dich im Trainingsraum  umziehen und deine Sachen dort deponieren. \nWas ist mitzubringen?\nHandtuch für den Lenker und  ausreichend zum Trinken. \nWelche Schuhe brauche ich?\nDie Pedalen haben auf der einen Seite Schlaufen und auf der anderen Seite Klickpedalen. Man kann also mit Turnschuhen oder mit Klickis (Mountainbike) fahren.
URL:https://www.radclub-ilztal.de/wp/event/video-indoor-cycling-stunde-mit-anja/
LOCATION:Autohaus Platzer & Wimmer in Hutthurm
CATEGORIES:Indoor Cycling
ATTACH;FMTTYPE=image/png:https://www.radclub-ilztal.de/wp/wp-content/uploads/2026/01/ChatGPT-Image-25.-Jan.-2026-19_15_53.png
END:VEVENT
BEGIN:VEVENT
DTSTART;TZID=Europe/Berlin:20260131T150000
DTEND;TZID=Europe/Berlin:20260131T210000
DTSTAMP:20260419T172544
CREATED:20251209T154701Z
LAST-MODIFIED:20260121T211623Z
UID:12449-1769871600-1769893200@www.radclub-ilztal.de
SUMMARY:Winterwanderung auf den Dreisessel mit Schneeschuhe\, Tourenski oder zu Fuß mit anschließender Einkehr im Berggasthof
DESCRIPTION:Treffpunkt:\n15:00 Uhr Parkplatz unten\n16:00 Uhr Parkplatz oben\nab 17:30 Uhr Einkehr im Berggasthof \n  \n  \n  \n  \n 
URL:https://www.radclub-ilztal.de/wp/event/schneeschuhe-bzw-winterwanderung-dreisessel-alm-mit-einkehr-im-bergasthof/
LOCATION:Berggasthof Dreisessel\, Dreisesselhaus 1\, 94089 Neureichenau\, Bayern\, Germany
CATEGORIES:Schneeschuhwandern
ATTACH;FMTTYPE=image/jpeg:https://www.radclub-ilztal.de/wp/wp-content/uploads/2025/12/20250125_165652.jpg
END:VEVENT
END:VCALENDAR